BEGIN:VCALENDAR
VERSION:2.0
CALSCALE:GREGORIAN
METHOD:PUBLISH
X-WR-TIMEZONE:Australia/Sydney
BEGIN:VTIMEZONE
TZID:Australia/Sydney
BEGIN:STANDARD
TZNAME:AEST
DTSTART:19700101T000000
TZOFFSETFROM:+1100
TZOFFSETTO:+1000
END:STANDARD
END:VTIMEZONE
BEGIN:VEVENT
DTSTART;TZID=Australia/Sydney:20250312
DTEND;TZID=Australia/Sydney:20250312
DTSTAMP:20260425T025059
UID:91
SUMMARY:NAPLAN Testing
DESCRIPTION:




NAPLAN Testing Year 3 and Year 5
Writing- Wednesday 12th&amp;nbsp;March 9:15am-11:00am
Reading- Thursday 13th&amp;nbsp;March 9:15am-11:00am
Language Conventions- Thursday 13th&amp;nbsp;March 11:30am-1:20pm
Numeracy- Friday 14th&amp;nbsp;March 9:15am-11:00am


SEQUENCE:0
STATUS:CONFIRMED
TRANSP:OPAQUE
END:VEVENT
END:VCALENDAR