BEGIN:VCALENDAR
VERSION:2.0
CALSCALE:GREGORIAN
METHOD:PUBLISH
X-WR-TIMEZONE:Australia/Sydney
BEGIN:VTIMEZONE
TZID:Australia/Sydney
BEGIN:STANDARD
TZNAME:AEST
DTSTART:19700101T000000
TZOFFSETFROM:+1100
TZOFFSETTO:+1000
END:STANDARD
END:VTIMEZONE
BEGIN:VEVENT
DTSTART;TZID=Australia/Sydney:20260506
DTEND;TZID=Australia/Sydney:20260506
DTSTAMP:20260424T025653
UID:131
SUMMARY:Yr 6 Camp
DESCRIPTION:




Yr 6 CampThe Ranch Mornington Peninsula


SEQUENCE:0
STATUS:CONFIRMED
TRANSP:OPAQUE
END:VEVENT
END:VCALENDAR